BEGIN:VCALENDAR
VERSION:2.0
PRODID: -//Q4 Inc.//EN
METHOD:PUBLISH
BEGIN:VTIMEZONE
TZID:America/New_York
X-LIC-LOCATION:America/New_York
BEGIN:DAYLIGHT
TZOFFSETFROM:-0500
TZOFFSETTO:-0400
TZNAME:EDT
DTSTART:19700308T020000
RRULE:FREQ=YEARLY;BYMONTH=3;BYDAY=2SU
END:DAYLIGHT
BEGIN:STANDARD
TZOFFSETFROM:-0400
TZOFFSETTO:-0500
TZNAME:EST
DTSTART:19701101T020000
RRULE:FREQ=YEARLY;BYMONTH=11;BYDAY=1SU
END:STANDARD
END:VTIMEZONE
BEGIN:VEVENT
ORGANIZER:MAILTO:info@blank.q4web.com
DTSTART;TZID="America/New_York":20210609T080000
DTEND;TZID="America/New_York":20210609T090000
LOCATION:
UID:4e82d1b3-c7d4-47b9-a67f-85ac2f7e94a8
DTSTAMP:20260421T150548
SUMMARY:Service Properties Trust to Present at Nareit’s REITweek: 2021 Virtual Investor Conference
DESCRIPTION: View More Information: http://www.svcreit.com/investors/events-and-presentations/event-details/2021/Service-Properties-Trust-to-Present-at-Nareits-REITweek-2021-Virtual-Investor-Conference/default.aspx
URL;VALUE=URI:http://www.svcreit.com/investors/events-and-presentations/event-details/2021/Service-Properties-Trust-to-Present-at-Nareits-REITweek-2021-Virtual-Investor-Conference/default.aspx
PRIORITY:5
CLASS:PUBLIC
END:VEVENT
END:VCALENDAR
