BEGIN:VCALENDAR
VERSION:2.0
PRODID: -//Q4 Inc.//EN
METHOD:PUBLISH
BEGIN:VTIMEZONE
TZID:America/New_York
X-LIC-LOCATION:America/New_York
BEGIN:DAYLIGHT
TZOFFSETFROM:-0500
TZOFFSETTO:-0400
TZNAME:EDT
DTSTART:19700308T020000
RRULE:FREQ=YEARLY;BYMONTH=3;BYDAY=2SU
END:DAYLIGHT
BEGIN:STANDARD
TZOFFSETFROM:-0400
TZOFFSETTO:-0500
TZNAME:EST
DTSTART:19701101T020000
RRULE:FREQ=YEARLY;BYMONTH=11;BYDAY=1SU
END:STANDARD
END:VTIMEZONE
BEGIN:VEVENT
ORGANIZER:MAILTO:info@blank.q4web.com
DTSTART;TZID="America/New_York":20210526T134500
DTEND;TZID="America/New_York":20210526T144500
LOCATION:
UID:e5e0455f-016e-4cf4-8350-69817f13f34e
DTSTAMP:20260421T134114
SUMMARY:Janney Montgomery Scott Virtual Real Estate & Lodging Conference
DESCRIPTION: View More Information: http://www.svcreit.com/investors/events-and-presentations/event-details/2021/Janney-Montgomery-Scott-Virtual-Real-Estate--Lodging-Conference/default.aspx
URL;VALUE=URI:http://www.svcreit.com/investors/events-and-presentations/event-details/2021/Janney-Montgomery-Scott-Virtual-Real-Estate--Lodging-Conference/default.aspx
PRIORITY:5
CLASS:PUBLIC
END:VEVENT
END:VCALENDAR
