BEGIN:VCALENDAR
VERSION:2.0
PRODID: -//Q4 Inc.//EN
METHOD:PUBLISH
BEGIN:VTIMEZONE
TZID:America/New_York
X-LIC-LOCATION:America/New_York
BEGIN:DAYLIGHT
TZOFFSETFROM:-0500
TZOFFSETTO:-0400
TZNAME:EDT
DTSTART:19700308T020000
RRULE:FREQ=YEARLY;BYMONTH=3;BYDAY=2SU
END:DAYLIGHT
BEGIN:STANDARD
TZOFFSETFROM:-0400
TZOFFSETTO:-0500
TZNAME:EST
DTSTART:19701101T020000
RRULE:FREQ=YEARLY;BYMONTH=11;BYDAY=1SU
END:STANDARD
END:VTIMEZONE
BEGIN:VEVENT
ORGANIZER:MAILTO:info@blank.q4web.com
DTSTART;TZID="America/New_York":20190809T100000
DTEND;TZID="America/New_York":20190809T110000
LOCATION:
UID:b54ede56-98b7-4a3b-97a3-922417b74823
DTSTAMP:20260421T150310
SUMMARY:Hospitality Properties Trust Second Quarter 2019 Earnings Conference Call
DESCRIPTION: View More Information: http://www.svcreit.com/investors/events-and-presentations/event-details/2019/Hospitality-Properties-Trust-Second-Quarter-2019-Earnings-Conference-Call/default.aspx
URL;VALUE=URI:http://www.svcreit.com/investors/events-and-presentations/event-details/2019/Hospitality-Properties-Trust-Second-Quarter-2019-Earnings-Conference-Call/default.aspx
PRIORITY:5
CLASS:PUBLIC
END:VEVENT
END:VCALENDAR
