BEGIN:VCALENDAR
VERSION:2.0
PRODID: -//Q4 Inc.//EN
METHOD:PUBLISH
BEGIN:VTIMEZONE
TZID:America/New_York
X-LIC-LOCATION:America/New_York
BEGIN:DAYLIGHT
TZOFFSETFROM:-0500
TZOFFSETTO:-0400
TZNAME:EDT
DTSTART:19700308T020000
RRULE:FREQ=YEARLY;BYMONTH=3;BYDAY=2SU
END:DAYLIGHT
BEGIN:STANDARD
TZOFFSETFROM:-0400
TZOFFSETTO:-0500
TZNAME:EST
DTSTART:19701101T020000
RRULE:FREQ=YEARLY;BYMONTH=11;BYDAY=1SU
END:STANDARD
END:VTIMEZONE
BEGIN:VEVENT
ORGANIZER:MAILTO:info@blank.q4web.com
DTSTART;TZID="America/New_York":20190605T144500
DTEND;TZID="America/New_York":20190605T154500
LOCATION:
UID:73626c69-732f-43db-90c8-a836c3ccf37a
DTSTAMP:20260421T151732
SUMMARY:Hospitality Properties Trust to Present at Nareit REITweek: 2019 Investor Conference
DESCRIPTION: View More Information: http://www.svcreit.com/investors/events-and-presentations/event-details/2019/Hospitality-Properties-Trust-to-Present-at-Nareit-REITweek-2019-Investor-Conference/default.aspx
URL;VALUE=URI:http://www.svcreit.com/investors/events-and-presentations/event-details/2019/Hospitality-Properties-Trust-to-Present-at-Nareit-REITweek-2019-Investor-Conference/default.aspx
PRIORITY:5
CLASS:PUBLIC
END:VEVENT
END:VCALENDAR
